BEGIN:VCALENDAR
VERSION:2.0
PRODID:-//CRDA | Casino Reinvestment Development Authority | Atlantic City - ECPv5.1.6//NONSGML v1.0//EN
CALSCALE:GREGORIAN
METHOD:PUBLISH
X-WR-CALNAME:CRDA | Casino Reinvestment Development Authority | Atlantic City
X-ORIGINAL-URL:https://njcrda.com
X-WR-CALDESC:Events for CRDA | Casino Reinvestment Development Authority | Atlantic City
BEGIN:VTIMEZONE
TZID:America/New_York
BEGIN:DAYLIGHT
TZOFFSETFROM:-0500
TZOFFSETTO:-0400
TZNAME:EDT
DTSTART:20210314T070000
END:DAYLIGHT
BEGIN:STANDARD
TZOFFSETFROM:-0400
TZOFFSETTO:-0500
TZNAME:EST
DTSTART:20211107T060000
END:STANDARD
END:VTIMEZONE
BEGIN:VEVENT
DTSTART;TZID=America/New_York:20210721T100000
DTEND;TZID=America/New_York:20210721T100000
DTSTAMP:20210814T014156
CREATED:20171005T194210Z
LAST-MODIFIED:20210629T195552Z
UID:14694-1626861600-1626861600@njcrda.com
SUMMARY:Atlantic City Municipal Utilities Authority Board Meeting
DESCRIPTION:609.345.3315
URL:https://njcrda.com/event/atlantic-city-municipal-utilities-authority-board-meeting/
LOCATION:Atlantic City Municipal Utilities Authority
CATEGORIES:Business Event
END:VEVENT
BEGIN:VEVENT
DTSTART;TZID=America/New_York:20210721T190000
DTEND;TZID=America/New_York:20210721T190000
DTSTAMP:20210814T014156
CREATED:20170608T195807Z
LAST-MODIFIED:20210624T134655Z
UID:12407-1626894000-1626894000@njcrda.com
SUMMARY:Masters of Illusion - Live!
DESCRIPTION:609.441.5000 \n  \n 
URL:https://njcrda.com/event/legends-in-concert-24/
LOCATION:Harrah’s
CATEGORIES:Public Events and Entertainment
END:VEVENT
BEGIN:VEVENT
DTSTART;TZID=America/New_York:20210721T200000
DTEND;TZID=America/New_York:20210721T200000
DTSTAMP:20210814T014156
CREATED:20170608T190013Z
LAST-MODIFIED:20210625T114441Z
UID:12419-1626897600-1626897600@njcrda.com
SUMMARY:Legends In Concert
DESCRIPTION:609.340.4000
URL:https://njcrda.com/event/legends-in-concert-36/
LOCATION:Tropicana
CATEGORIES:Public Events and Entertainment
END:VEVENT
BEGIN:VEVENT
DTSTART;TZID=America/New_York:20210721T200000
DTEND;TZID=America/New_York:20210721T200000
DTSTAMP:20210814T014156
CREATED:20210713T171524Z
LAST-MODIFIED:20210713T171524Z
UID:28948-1626897600-1626897600@njcrda.com
SUMMARY:Gary G. Garcia
DESCRIPTION:www.acjokes.com
URL:https://njcrda.com/event/gary-g-garcia-2/
LOCATION:Kiss Kiss Nightclub @ Tropicana
CATEGORIES:Public Events and Entertainment
END:VEVENT
BEGIN:VEVENT
DTSTART;TZID=America/New_York:20210721T203000
DTEND;TZID=America/New_York:20210721T203000
DTSTAMP:20210814T014156
CREATED:20210713T171646Z
LAST-MODIFIED:20210713T171646Z
UID:28950-1626899400-1626899400@njcrda.com
SUMMARY:Zach Pickett
DESCRIPTION:www.acjokes.com
URL:https://njcrda.com/event/zach-pickett-7/
LOCATION:Bourré\, NJ\, United States
CATEGORIES:Public Events and Entertainment
END:VEVENT
END:VCALENDAR