BEGIN:VCALENDAR
VERSION:2.0
PRODID:-//CRDA | Casino Reinvestment Development Authority | Atlantic City - ECPv5.1.6//NONSGML v1.0//EN
CALSCALE:GREGORIAN
METHOD:PUBLISH
X-WR-CALNAME:CRDA | Casino Reinvestment Development Authority | Atlantic City
X-ORIGINAL-URL:https://njcrda.com
X-WR-CALDESC:Events for CRDA | Casino Reinvestment Development Authority | Atlantic City
BEGIN:VTIMEZONE
TZID:America/New_York
BEGIN:DAYLIGHT
TZOFFSETFROM:-0500
TZOFFSETTO:-0400
TZNAME:EDT
DTSTART:20210314T070000
END:DAYLIGHT
BEGIN:STANDARD
TZOFFSETFROM:-0400
TZOFFSETTO:-0500
TZNAME:EST
DTSTART:20211107T060000
END:STANDARD
END:VTIMEZONE
BEGIN:VEVENT
DTSTART;TZID=America/New_York:20210713T073000
DTEND;TZID=America/New_York:20210713T073000
DTSTAMP:20210813T151017
CREATED:20210529T135504Z
LAST-MODIFIED:20210630T152335Z
UID:28396-1626161400-1626161400@njcrda.com
SUMMARY:Jimmy Johnson’s Atlantic City Championship Fishing Week: Day 1 Competition & Events
DESCRIPTION:Visit website for details:  www.questfortheringac.com/atlantic-city-quest-for-the-ring-championship
URL:https://njcrda.com/event/jimmy-johnsons-atlantic-city-championship-fishing-week-day-1-competition/
LOCATION:Frank S. Farley State Marina
CATEGORIES:Public Events and Entertainment
END:VEVENT
BEGIN:VEVENT
DTSTART;TZID=America/New_York:20210713T140000
DTEND;TZID=America/New_York:20210713T140000
DTSTAMP:20210813T151017
CREATED:20210715T122533Z
LAST-MODIFIED:20210715T122533Z
UID:28987-1626184800-1626184800@njcrda.com
SUMMARY:Asian American Cultural Awareness Day
DESCRIPTION:609.457.7478
URL:https://njcrda.com/event/asian-american-cultural-awareness-day/
LOCATION:Kennedy Plaza
CATEGORIES:Community Event
END:VEVENT
BEGIN:VEVENT
DTSTART;TZID=America/New_York:20210713T190000
DTEND;TZID=America/New_York:20210713T190000
DTSTAMP:20210813T151017
CREATED:20170608T195802Z
LAST-MODIFIED:20210624T133607Z
UID:12400-1626202800-1626202800@njcrda.com
SUMMARY:Masters of Illusion - Live!
DESCRIPTION:609.441.5000
URL:https://njcrda.com/event/legends-in-concert-17/
LOCATION:Harrah’s
CATEGORIES:Public Events and Entertainment
END:VEVENT
BEGIN:VEVENT
DTSTART;TZID=America/New_York:20210713T200000
DTEND;TZID=America/New_York:20210713T200000
DTSTAMP:20210813T151017
CREATED:20190730T202441Z
LAST-MODIFIED:20210713T153018Z
UID:23666-1626206400-1626206400@njcrda.com
SUMMARY:Mike Merk
DESCRIPTION:www.acjokes.com
URL:https://njcrda.com/event/pcc-alumni-showcase/
LOCATION:Kiss Kiss Nightclub @ Tropicana
CATEGORIES:Public Events and Entertainment
END:VEVENT
END:VCALENDAR