BEGIN:VCALENDAR
VERSION:2.0
PRODID:-//CRDA | Casino Reinvestment Development Authority | Atlantic City - ECPv5.1.6//NONSGML v1.0//EN
CALSCALE:GREGORIAN
METHOD:PUBLISH
X-WR-CALNAME:CRDA | Casino Reinvestment Development Authority | Atlantic City
X-ORIGINAL-URL:https://njcrda.com
X-WR-CALDESC:Events for CRDA | Casino Reinvestment Development Authority | Atlantic City
BEGIN:VTIMEZONE
TZID:America/New_York
BEGIN:DAYLIGHT
TZOFFSETFROM:-0500
TZOFFSETTO:-0400
TZNAME:EDT
DTSTART:20210314T070000
END:DAYLIGHT
BEGIN:STANDARD
TZOFFSETFROM:-0400
TZOFFSETTO:-0500
TZNAME:EST
DTSTART:20211107T060000
END:STANDARD
END:VTIMEZONE
BEGIN:VEVENT
DTSTART;VALUE=DATE:20210707
DTEND;VALUE=DATE:20210708
DTSTAMP:20210813T151006
CREATED:20180622T202413Z
LAST-MODIFIED:20210630T135651Z
UID:18107-1625616000-1625702399@njcrda.com
SUMMARY:Atlantic City Jam Fest
DESCRIPTION:Visit website for additional details:  www.hoopgroup.com
URL:https://njcrda.com/event/atlantic-city-jam-fest-3/
LOCATION:Atlantic City Convention Center\, Atlantic City\, United States
CATEGORIES:Public Events and Entertainment
END:VEVENT
BEGIN:VEVENT
DTSTART;TZID=America/New_York:20210707T190000
DTEND;TZID=America/New_York:20210707T190000
DTSTAMP:20210813T151006
CREATED:20170608T195813Z
LAST-MODIFIED:20210622T152336Z
UID:12418-1625684400-1625684400@njcrda.com
SUMMARY:Masters of Illusion - Live!
DESCRIPTION:609.441.5000 \n  \n  \n 
URL:https://njcrda.com/event/legends-in-concert-35/
LOCATION:Harrah’s
CATEGORIES:Public Events and Entertainment
END:VEVENT
END:VCALENDAR