BEGIN:VCALENDAR
VERSION:2.0
PRODID:-//CRDA | Casino Reinvestment Development Authority | Atlantic City - ECPv5.1.6//NONSGML v1.0//EN
CALSCALE:GREGORIAN
METHOD:PUBLISH
X-WR-CALNAME:CRDA | Casino Reinvestment Development Authority | Atlantic City
X-ORIGINAL-URL:https://njcrda.com
X-WR-CALDESC:Events for CRDA | Casino Reinvestment Development Authority | Atlantic City
BEGIN:VTIMEZONE
TZID:America/New_York
BEGIN:DAYLIGHT
TZOFFSETFROM:-0500
TZOFFSETTO:-0400
TZNAME:EDT
DTSTART:20210314T070000
END:DAYLIGHT
BEGIN:STANDARD
TZOFFSETFROM:-0400
TZOFFSETTO:-0500
TZNAME:EST
DTSTART:20211107T060000
END:STANDARD
END:VTIMEZONE
BEGIN:VEVENT
DTSTART;TZID=America/New_York:20210630T100000
DTEND;TZID=America/New_York:20210630T100000
DTSTAMP:20210813T150945
CREATED:20210715T145953Z
LAST-MODIFIED:20210715T150111Z
UID:28994-1625047200-1625047200@njcrda.com
SUMMARY:Brown's Park Fresh Food and Resource Giveaway
DESCRIPTION:609.347.5400
URL:https://njcrda.com/event/browns-park-fresh-food-and-resource-giveaway/
LOCATION:Brown’s Park
CATEGORIES:Community Event
END:VEVENT
END:VCALENDAR