BEGIN:VCALENDAR
VERSION:2.0
PRODID:-//CRDA | Casino Reinvestment Development Authority | Atlantic City - ECPv5.1.6//NONSGML v1.0//EN
CALSCALE:GREGORIAN
METHOD:PUBLISH
X-WR-CALNAME:CRDA | Casino Reinvestment Development Authority | Atlantic City
X-ORIGINAL-URL:https://njcrda.com
X-WR-CALDESC:Events for CRDA | Casino Reinvestment Development Authority | Atlantic City
BEGIN:VTIMEZONE
TZID:America/New_York
BEGIN:DAYLIGHT
TZOFFSETFROM:-0500
TZOFFSETTO:-0400
TZNAME:EDT
DTSTART:20210314T070000
END:DAYLIGHT
BEGIN:STANDARD
TZOFFSETFROM:-0400
TZOFFSETTO:-0500
TZNAME:EST
DTSTART:20211107T060000
END:STANDARD
END:VTIMEZONE
BEGIN:VEVENT
DTSTART;TZID=America/New_York:20210708T190000
DTEND;TZID=America/New_York:20210708T190000
DTSTAMP:20210801T102311
CREATED:20170602T171629Z
LAST-MODIFIED:20210601T154231Z
UID:11925-1625770800-1625770800@njcrda.com
SUMMARY:Atlantic City Fashion Week: Student Showcase
DESCRIPTION:www.AtlanticCityFashionWeek.com
URL:https://njcrda.com/event/fundraiser-10th-annual-paddle-for-a-cause/
LOCATION:Showboat Hotel
CATEGORIES:Public Events and Entertainment
END:VEVENT
END:VCALENDAR