BEGIN:VCALENDAR
VERSION:2.0
PRODID:-//CRDA | Casino Reinvestment Development Authority | Atlantic City - ECPv5.1.6//NONSGML v1.0//EN
CALSCALE:GREGORIAN
METHOD:PUBLISH
X-WR-CALNAME:CRDA | Casino Reinvestment Development Authority | Atlantic City
X-ORIGINAL-URL:https://njcrda.com
X-WR-CALDESC:Events for CRDA | Casino Reinvestment Development Authority | Atlantic City
BEGIN:VTIMEZONE
TZID:America/New_York
BEGIN:DAYLIGHT
TZOFFSETFROM:-0500
TZOFFSETTO:-0400
TZNAME:EDT
DTSTART:20190310T070000
END:DAYLIGHT
BEGIN:STANDARD
TZOFFSETFROM:-0400
TZOFFSETTO:-0500
TZNAME:EST
DTSTART:20191103T060000
END:STANDARD
END:VTIMEZONE
BEGIN:VEVENT
DTSTART;TZID=America/New_York:20191011T170000
DTEND;TZID=America/New_York:20191011T170000
DTSTAMP:20210806T135308
CREATED:20180830T170658Z
LAST-MODIFIED:20190930T184045Z
UID:19108-1570813200-1570813200@njcrda.com
SUMMARY:Black Girls ROCK Jersey Style
DESCRIPTION:609.289.3964
URL:https://njcrda.com/event/black-girls-rock-jersey-style/
LOCATION:All-Wars Memorial Building
CATEGORIES:Community Event
END:VEVENT
END:VCALENDAR