BEGIN:VCALENDAR
VERSION:2.0
PRODID:-//CRDA | Casino Reinvestment Development Authority | Atlantic City - ECPv5.1.6//NONSGML v1.0//EN
CALSCALE:GREGORIAN
METHOD:PUBLISH
X-WR-CALNAME:CRDA | Casino Reinvestment Development Authority | Atlantic City
X-ORIGINAL-URL:https://njcrda.com
X-WR-CALDESC:Events for CRDA | Casino Reinvestment Development Authority | Atlantic City
BEGIN:VTIMEZONE
TZID:America/New_York
BEGIN:DAYLIGHT
TZOFFSETFROM:-0500
TZOFFSETTO:-0400
TZNAME:EDT
DTSTART:20210314T070000
END:DAYLIGHT
BEGIN:STANDARD
TZOFFSETFROM:-0400
TZOFFSETTO:-0500
TZNAME:EST
DTSTART:20211107T060000
END:STANDARD
END:VTIMEZONE
BEGIN:VEVENT
DTSTART;TZID=America/New_York:20210610T160000
DTEND;TZID=America/New_York:20210610T160000
DTSTAMP:20210813T150801
CREATED:20190725T150300Z
LAST-MODIFIED:20210629T200820Z
UID:23554-1623340800-1623340800@njcrda.com
SUMMARY:Atlantic County Improvement Authority Board Meeting
DESCRIPTION:609.343.2390
URL:https://njcrda.com/event/atlantic-county-improvement-authority-special-board-meeting/
LOCATION:Atlantic County Office Building
CATEGORIES:Business Event
END:VEVENT
END:VCALENDAR